BEGIN:VCALENDAR
VERSION:2.0
PRODID:-//Association des orthodontistes du Québec - ECPv6.15.18//NONSGML v1.0//EN
CALSCALE:GREGORIAN
METHOD:PUBLISH
X-ORIGINAL-URL:https://associationdesorthodontistes.com
X-WR-CALDESC:Évènements pour Association des orthodontistes du Québec
REFRESH-INTERVAL;VALUE=DURATION:PT1H
X-Robots-Tag:noindex
X-PUBLISHED-TTL:PT1H
BEGIN:VTIMEZONE
TZID:America/Toronto
BEGIN:DAYLIGHT
TZOFFSETFROM:-0500
TZOFFSETTO:-0400
TZNAME:EDT
DTSTART:20250309T070000
END:DAYLIGHT
BEGIN:STANDARD
TZOFFSETFROM:-0400
TZOFFSETTO:-0500
TZNAME:EST
DTSTART:20251102T060000
END:STANDARD
BEGIN:DAYLIGHT
TZOFFSETFROM:-0500
TZOFFSETTO:-0400
TZNAME:EDT
DTSTART:20260308T070000
END:DAYLIGHT
BEGIN:STANDARD
TZOFFSETFROM:-0400
TZOFFSETTO:-0500
TZNAME:EST
DTSTART:20261101T060000
END:STANDARD
BEGIN:DAYLIGHT
TZOFFSETFROM:-0500
TZOFFSETTO:-0400
TZNAME:EDT
DTSTART:20270314T070000
END:DAYLIGHT
BEGIN:STANDARD
TZOFFSETFROM:-0400
TZOFFSETTO:-0500
TZNAME:EST
DTSTART:20271107T060000
END:STANDARD
END:VTIMEZONE
BEGIN:VEVENT
DTSTART;TZID=America/Toronto:20260531T073000
DTEND;TZID=America/Toronto:20260531T163000
DTSTAMP:20260420T192252
CREATED:20250327T194253Z
LAST-MODIFIED:20260331T135416Z
UID:50708-1780212600-1780245000@associationdesorthodontistes.com
SUMMARY:Journée de conférences\, AGA
DESCRIPTION:À propos de l’événement \nNe manquez pas la conférence du Dr Brian Amy\, qui propose des traitements Invisalign® depuis qu’il a obtenu sa certification en 2000 pendant son internat à l’Université Temple de Philadelphie. En tant que prestataire Sapphire\, il s’intéresse particulièrement à l’efficacité des traitements Invisalign® pour les patients et médecins. \nDr Amy a participé à de nombreuses études de recherche qui ont donné lieu à des publications dans des revues spécialisées et à des avancées dans le traitement Invisalign®. Membre de l’Align Faculty depuis 2015\, il a donné des conférences aux États-Unis et à l’étranger afin de partager les avancées sur Invisalign First\, le traitement des adolescents\, les cas chirurgicaux\, l’intégration du scanner iTero©\, l’efficacité de la planification du traitement ClinCheck© et la pratique numérique. \nPar la suite\, nous sommes heureux de recevoir Dr Lui Redigonda. Depuis plus de 30 ans\, le Dr Lui Redigonda œuvre pour améliorer la qualité de vie des gens. Son « POURQUOI » est d’inspirer par l’éducation et le service afin d’avoir un impact positif sur la prochaine génération. \nDr Redigonda a suivi ses dix années d’études supérieures à l’Université Western Ontario à London\, en Ontario. Cinq années d’exercice en tant que dentiste lui ont permis d’acquérir une grande connaissance des défis quotidiens de la dentisterie générale. Il est professeur adjoint au programme d’orthodontie de l’Université Western et fait partie de deux groupes de mentorat où il encadre de jeunes orthodontistes et des résidents en orthodontie. \nLe 31 mai\, à l’hôtel William Gray de Montréal\, ils présenteront des conférences instructives et passionnantes\, un rendez-vous incontournable pour les professionnels du domaine. \nLa journée se terminera en toute convivialité lors de la Soirée de la présidente\, qui aura lieu au restaurant Maggie Oakes de Montréal. \n \nHébergement\nUn tarif préférentiel a été négocié à l’hôtel William Gray (421\, rue Saint-Vincent\, Vieux-Montréal\, QC H2Y 3A6) pour votre hébergement dans le cadre de l’événement. Nous vous invitons à réserver votre chambre dès maintenant pour profiter de cette offre. Réservez votre hébergement ici. Veuillez noter que ce tarif est disponible jusqu’au 15 mai 2026. \n			\n			\n				\n				\n				\n				\n				\n				\n				\n				\n				\n				Inscription\n			\n				\n				\n				\n				\n				Tarifs\n\nMembres Early bird : 265 $ / Membres : 365 $\nNon-membres Early bird : 1 235 $ / Non-membres : 1 335 $\n\nPour vous inscrire à la Soirée de la présidente\, cliquez ici. \n			\n			\n				\n				\n				\n				\n			\n				\n				\n				\n				\n				\n				\n				\n				\n				\n				\n				Merci à notre partenaire 
URL:https://associationdesorthodontistes.com/evenement/journee-de-conferences-aga-2026/
LOCATION:Hôtel William Gray\, 421 R. Saint-Vincent\, Montréal\, Québec\, H2Y 3A4\, Canada
ATTACH;FMTTYPE=image/jpeg:https://associationdesorthodontistes.com/wp-content/uploads/2025/03/AOQ_Visuels_2026_VFinal_page-0001.jpg
END:VEVENT
BEGIN:VEVENT
DTSTART;TZID=America/Toronto:20260531T180000
DTEND;TZID=America/Toronto:20260531T233000
DTSTAMP:20260420T192252
CREATED:20260227T134631Z
LAST-MODIFIED:20260331T135416Z
UID:53793-1780250400-1780270200@associationdesorthodontistes.com
SUMMARY:Souper de la présidente
DESCRIPTION:À propos de l’événement \nRestaurant Maggie Oakes – Hôtel William Gray\, Vieux-Montréal \nÀ la suite de la journée conférence du 31 mai 2026\, nous vous invitons chaleureusement à participer au Souper de la présidente. \nVenez prolonger les échanges de la journée dans une ambiance conviviale\, élégante et propice aux belles rencontres. Un moment parfait pour réseauter\, discuter et célébrer ensemble ! \n \nHébergement\nUn tarif préférentiel a été négocié à l’hôtel William Gray (421\, rue Saint-Vincent\, Vieux-Montréal\, QC H2Y 3A6) pour votre hébergement dans le cadre de l’événement. Nous vous invitons à réserver votre chambre dès maintenant pour profiter de cette offre. Réservez votre hébergement ici. Veuillez noter que ce tarif est disponible jusqu’au 15 mai 2026. \n			\n			\n				\n				\n				\n				\n				\n				\n				\n				\n				\n				Inscription\n			\n				\n				\n				\n				\n				Tarifs\n\nMembres  : gratuit\nAccompagnateur : 225 $\n\nLes places sont limitées — assurez-vous de ne pas manquer cette soirée exceptionnelle. \n			\n			\n				\n				\n				\n				\n			\n				\n				\n				\n				\n				\n				\n				\n				\n				\n				\n				Merci à nos partenaires
URL:https://associationdesorthodontistes.com/evenement/soiree-de-la-presidente-2026/
LOCATION:Restaurant Maggie Oakes\, 421 R. Saint-Vincent\, Montréal\, Québec\, H2Y 3A4\, Canada
ATTACH;FMTTYPE=image/jpeg:https://associationdesorthodontistes.com/wp-content/uploads/2025/03/AOQ_Visuels_2026_VFinal_page-0002.jpg
END:VEVENT
BEGIN:VEVENT
DTSTART;TZID=America/Toronto:20260601T083000
DTEND;TZID=America/Toronto:20260601T163000
DTSTAMP:20260420T192252
CREATED:20260417T134617Z
LAST-MODIFIED:20260417T142059Z
UID:54217-1780302600-1780331400@associationdesorthodontistes.com
SUMMARY:Journées dentaires internationales du Québec 2026
DESCRIPTION:À propos de l’événement\nÀ l’occasion de la 56e édition des Journées dentaires internationales du Québec\, nous vous invitons à une journée enrichissante et inspirante dédiée à l’innovation\, à la performance clinique et à l’expérience patient. \nDr Lui Redigonda ouvrira l’événement avec deux conférences complémentaires centrées sur l’expérience patient et la communication en cabinet dentaire. \nLors de la formation ; Beyond Straight Teeth: The Art of Patient Hospitality\, nous aborderons la différence entre service et hospitalité\, et comment une culture d’accueil peut transformer l’expérience patient. Les participants découvriront notamment le cycle de service\, l’attitude des « Ten Foot Attitude » ainsi que les principes de service inspirés de Disney. \nLa formation Words At Work: The Power of Professional Communication explorera le rôle essentiel de la communication en cabinet et son impact sur la confiance des patients et la qualité des interactions\, en proposant des outils concrets pour améliorer les pratiques au quotidien. \nLa journée se poursuivra avec une présentation du Dr Barry Benton. Lors de sa présentation Designing the High-Performance Orthodontic Practice : An Integrated & Digital Approach to Damon Ultima & Spark nous vous proposerons une exploration des solutions Damon et Spark afin d’optimiser votre pratique à l’ère du numérique. Nous aborderons les fondamentaux du système Damon Ultima\, le bonding indirect ainsi que les outils logiciels\, en illustrant le tout à l’aide de cas cliniques concrets et d’échanges interactifs. \nL’accent sera également mis sur les bénéfices pour les patients\, notamment grâce au système passif self-ligating\, favorisant des mouvements plus doux et une efficacité accrue des traitements\, et se conclura par la découverte d’EtchFree\, une innovation offrant une fiabilité de collage optimale tout en préservant l’émail\, même en conditions d’humidité. \nCes conférences seront présentées en anglais. \n			\n			\n				\n				\n				\n				\n				\n				\n				\n				\n				\n				Inscription\n			\n				\n				\n				\n				\n				Tarifs\n\nMembres AOQ: 155 $\nNon-membres de l’extérieur du Québec: 385 $\n\n			\n				S'inscrire\n			\n			\n				\n				\n				\n				\n			\n				\n				\n				\n				\n				\n				\n				\n				\n				\n				\n				Découvrez les conférenciers\n			\n			\n				\n				\n				\n				\n			\n				\n				\n				\n				\n				\n				\n				\n				\n				\n				\n				\n			\n			\n				\n				\n				\n				\n				\n				\n				\n				\n				\n				Dr Lui Redigonda\nDepuis plus de 30 ans\, Dr Redigonda œuvre pour améliorer la qualité de vie des gens. Son « POURQUOI » est d’inspirer par l’éducation et le service afin d’avoir un impact positif sur la prochaine génération. Né et élevé à Toronto\, Dr Redigonda a suivi ses dix années d’études supérieures à l’Université Western Ontario à London\, en Ontario. Cinq années d’exercice en tant que dentiste ont permis au Dr Redigonda d’acquérir une grande connaissance des défis quotidiens de la dentisterie générale. Il est professeur adjoint au programme d’orthodontie de l’université Western et fait partie de deux groupes de mentorat où il encadre de jeunes orthodontistes et des résidents en orthodontie. Il se passionne pour les compétences humaines\, telles que le leadership\, le travail d’équipe\, la communication professionnelle au bureau\, la culture d’entreprise\, l’intelligence émotionnelle et l’accueil des patients. Le sport a été son premier amour\, mais cela ne lui permettait pas de gagner sa vie. \n			\n			\n				\n				\n				\n				\n			\n				\n				\n				\n				\n				\n				\n				\n				\n				\n				\n				\n			\n			\n				\n				\n				\n				\n				\n				\n				\n				\n				\n				Dr Barry Benton\nDr Barry Benton a obtenu son baccalauréat à l’Université Furman\, où il a également été joueur de baseball universitaire pendant quatre ans. Il a ensuite complété son doctorat en médecine dentaire (D.M.D.) à l’Université de l’Alabama à Birmingham\, où il a reçu le prix de recherche d’été du programme DART (Dental Academic Research Training). \nAprès ses études en médecine dentaire\, Dr Benton a poursuivi une maîtrise ainsi qu’un certificat en orthodontie à LSU\, à La Nouvelle-Orléans. Il y a reçu le prix J. Jerome Herbert ainsi que le prix commémoratif James P. Bordelon\, D.D.S. Peu après sa graduation\, il a réussi l’examen clinique de l’American Board of Orthodontics\, devenant\, au moment de sa certification\, l’un des plus jeunes orthodontistes certifiés. \nDr Benton occupe actuellement un poste de professeur adjoint à l’Université de l’Alabama à Birmingham\, tout en étant propriétaire et praticien à temps plein dans sa clinique d’orthodontie. Dans ces deux rôles\, il vise à promouvoir l’excellence auprès de ses résidents et à rehausser les standards de soins pour ses patients. Enfin\, il s’intéresse particulièrement aux technologies et poursuit activement l’intégration des plus récentes innovations afin d’offrir des soins de la plus haute qualité. \n			\n			\n				\n				\n				\n				\n			\n				\n				\n				\n				\n				\n				\n				\n				\n				\n				\n				Merci à notre partenaire
URL:https://associationdesorthodontistes.com/evenement/journees-dentaires-internationales-du-quebec-2026/
LOCATION:Palais des congrès de Montréal\, 159 Rue Saint-Antoine O\, Montréal\, Québec\, H2Z 1H2\, Canada
ATTACH;FMTTYPE=image/png:https://associationdesorthodontistes.com/wp-content/uploads/2026/04/Untitled-design-51.png
END:VEVENT
END:VCALENDAR